BEGIN:VCALENDAR
VERSION:2.0
PRODID:-//Leigh Academy Milestone - ECPv6.15.20//NONSGML v1.0//EN
CALSCALE:GREGORIAN
METHOD:PUBLISH
X-WR-CALNAME:Leigh Academy Milestone
X-ORIGINAL-URL:https://www.leighacademymilestone.org.uk
X-WR-CALDESC:Events for Leigh Academy Milestone
REFRESH-INTERVAL;VALUE=DURATION:PT1H
X-Robots-Tag:noindex
X-PUBLISHED-TTL:PT1H
BEGIN:VTIMEZONE
TZID:Europe/London
BEGIN:DAYLIGHT
TZOFFSETFROM:+0000
TZOFFSETTO:+0100
TZNAME:BST
DTSTART:20240331T010000
END:DAYLIGHT
BEGIN:STANDARD
TZOFFSETFROM:+0100
TZOFFSETTO:+0000
TZNAME:GMT
DTSTART:20241027T010000
END:STANDARD
BEGIN:DAYLIGHT
TZOFFSETFROM:+0000
TZOFFSETTO:+0100
TZNAME:BST
DTSTART:20250330T010000
END:DAYLIGHT
BEGIN:STANDARD
TZOFFSETFROM:+0100
TZOFFSETTO:+0000
TZNAME:GMT
DTSTART:20251026T010000
END:STANDARD
BEGIN:DAYLIGHT
TZOFFSETFROM:+0000
TZOFFSETTO:+0100
TZNAME:BST
DTSTART:20260329T010000
END:DAYLIGHT
BEGIN:STANDARD
TZOFFSETFROM:+0100
TZOFFSETTO:+0000
TZNAME:GMT
DTSTART:20261025T010000
END:STANDARD
BEGIN:DAYLIGHT
TZOFFSETFROM:+0000
TZOFFSETTO:+0100
TZNAME:BST
DTSTART:20270328T010000
END:DAYLIGHT
BEGIN:STANDARD
TZOFFSETFROM:+0100
TZOFFSETTO:+0000
TZNAME:GMT
DTSTART:20271031T010000
END:STANDARD
END:VTIMEZONE
BEGIN:VEVENT
DTSTART;VALUE=DATE:20260327
DTEND;VALUE=DATE:20260328
DTSTAMP:20260420T080415
CREATED:20250717T135748Z
LAST-MODIFIED:20250717T135748Z
UID:6547-1774569600-1774655999@www.leighacademymilestone.org.uk
SUMMARY:Phase 3 Inquiry Day
DESCRIPTION:
URL:https://www.leighacademymilestone.org.uk/event/phase-3-inquiry-day-4/
CATEGORIES:Phase 3
END:VEVENT
BEGIN:VEVENT
DTSTART;TZID=Europe/London:20260212T100000
DTEND;TZID=Europe/London:20260212T120000
DTSTAMP:20260420T080415
CREATED:20250717T135202Z
LAST-MODIFIED:20250717T135508Z
UID:6542-1770890400-1770897600@www.leighacademymilestone.org.uk
SUMMARY:Phase 3 Coffee Morning
DESCRIPTION:Phase 3 families (of students based at the main site) are invited to our Coffee Morning\, hosted in the Library. Enjoy some time reading with your child\, followed by a hot drink and conversations with other Phase 3 families.
URL:https://www.leighacademymilestone.org.uk/event/phase-3-coffee-morning/
CATEGORIES:Phase 3
END:VEVENT
BEGIN:VEVENT
DTSTART;VALUE=DATE:20260206
DTEND;VALUE=DATE:20260207
DTSTAMP:20260420T080415
CREATED:20250717T134957Z
LAST-MODIFIED:20250717T134957Z
UID:6538-1770336000-1770422399@www.leighacademymilestone.org.uk
SUMMARY:Phase 3 Inquiry Day
DESCRIPTION:
URL:https://www.leighacademymilestone.org.uk/event/phase-3-inquiry-day-3/
CATEGORIES:Phase 3
END:VEVENT
BEGIN:VEVENT
DTSTART;VALUE=DATE:20251217
DTEND;VALUE=DATE:20251218
DTSTAMP:20260420T080415
CREATED:20250717T134535Z
LAST-MODIFIED:20250717T134535Z
UID:6530-1765929600-1766015999@www.leighacademymilestone.org.uk
SUMMARY:Phase 3 Christmas Performance
DESCRIPTION:
URL:https://www.leighacademymilestone.org.uk/event/phase-3-christmas-performance/
CATEGORIES:Phase 3
END:VEVENT
BEGIN:VEVENT
DTSTART;VALUE=DATE:20251205
DTEND;VALUE=DATE:20251206
DTSTAMP:20260420T080415
CREATED:20250717T133859Z
LAST-MODIFIED:20250717T134021Z
UID:6518-1764892800-1764979199@www.leighacademymilestone.org.uk
SUMMARY:Phase 3 Inquiry Day
DESCRIPTION:
URL:https://www.leighacademymilestone.org.uk/event/phase-3-inquiry-day-2/
CATEGORIES:Phase 3
END:VEVENT
BEGIN:VEVENT
DTSTART;VALUE=DATE:20251017
DTEND;VALUE=DATE:20251018
DTSTAMP:20260420T080415
CREATED:20250717T133812Z
LAST-MODIFIED:20250717T134033Z
UID:6516-1760659200-1760745599@www.leighacademymilestone.org.uk
SUMMARY:Phase 3 Inquiry Day
DESCRIPTION:
URL:https://www.leighacademymilestone.org.uk/event/phase-3-inquiry-day/
CATEGORIES:Phase 3
END:VEVENT
BEGIN:VEVENT
DTSTART;VALUE=DATE:20250919
DTEND;VALUE=DATE:20250920
DTSTAMP:20260420T080415
CREATED:20250717T133355Z
LAST-MODIFIED:20250717T134134Z
UID:6507-1758240000-1758326399@www.leighacademymilestone.org.uk
SUMMARY:Phase 3 Coffee Morning (main site)
DESCRIPTION:Phase 3 families (of students based at the main site) are invited to our first Coffee Morning\, hosted by the Phase 3 Leadership Team. Come meet your class teachers\, see our learning environment\, and meet other students and families.
URL:https://www.leighacademymilestone.org.uk/event/phase-3-coffee-morning-main-site/
CATEGORIES:Phase 3
END:VEVENT
BEGIN:VEVENT
DTSTART;VALUE=DATE:20250715
DTEND;VALUE=DATE:20250716
DTSTAMP:20260420T080415
CREATED:20250312T085314Z
LAST-MODIFIED:20250312T085314Z
UID:6265-1752537600-1752623999@www.leighacademymilestone.org.uk
SUMMARY:Dietitian Clinic
DESCRIPTION:
URL:https://www.leighacademymilestone.org.uk/event/dietitian-clinic-4/
CATEGORIES:Phase 1,Phase 2,Phase 3,Phase 4
END:VEVENT
BEGIN:VEVENT
DTSTART;VALUE=DATE:20250710
DTEND;VALUE=DATE:20250711
DTSTAMP:20260420T080415
CREATED:20240704T100918Z
LAST-MODIFIED:20240704T100918Z
UID:5760-1752105600-1752191999@www.leighacademymilestone.org.uk
SUMMARY:Phase 3 Fun Day
DESCRIPTION:More details to follow
URL:https://www.leighacademymilestone.org.uk/event/phase-3-fun-day/
CATEGORIES:Phase 3
END:VEVENT
BEGIN:VEVENT
DTSTART;VALUE=DATE:20250708
DTEND;VALUE=DATE:20250709
DTSTAMP:20260420T080415
CREATED:20250312T085251Z
LAST-MODIFIED:20250312T085251Z
UID:6264-1751932800-1752019199@www.leighacademymilestone.org.uk
SUMMARY:Dietitian Clinic
DESCRIPTION:
URL:https://www.leighacademymilestone.org.uk/event/dietitian-clinic-3/
CATEGORIES:Phase 1,Phase 2,Phase 3,Phase 4
END:VEVENT
BEGIN:VEVENT
DTSTART;VALUE=DATE:20250702
DTEND;VALUE=DATE:20250703
DTSTAMP:20260420T080415
CREATED:20250312T085219Z
LAST-MODIFIED:20250312T085219Z
UID:6263-1751414400-1751500799@www.leighacademymilestone.org.uk
SUMMARY:Dietitian Clinic
DESCRIPTION:
URL:https://www.leighacademymilestone.org.uk/event/dietitian-clinic-2/
CATEGORIES:Phase 1,Phase 2,Phase 3,Phase 4
END:VEVENT
BEGIN:VEVENT
DTSTART;VALUE=DATE:20250625
DTEND;VALUE=DATE:20250626
DTSTAMP:20260420T080415
CREATED:20250424T124837Z
LAST-MODIFIED:20250424T124837Z
UID:6307-1750809600-1750895999@www.leighacademymilestone.org.uk
SUMMARY:Sports Day Phase 3 (Back up)
DESCRIPTION:AM Session 10:30-11:30 – Tudor\, Saxon\, Viking and Jurassic \nPM Session 1:30-2:30 – Sparta\, Renaissance and Aztec
URL:https://www.leighacademymilestone.org.uk/event/sports-day-phase-3-back-up/
CATEGORIES:Phase 3
END:VEVENT
BEGIN:VEVENT
DTSTART;VALUE=DATE:20250624
DTEND;VALUE=DATE:20250625
DTSTAMP:20260420T080415
CREATED:20250424T124807Z
LAST-MODIFIED:20250424T124807Z
UID:6306-1750723200-1750809599@www.leighacademymilestone.org.uk
SUMMARY:Sports Day Phase 3
DESCRIPTION:AM Session 10:30-11:30 – Tudor\, Saxon\, Viking and Jurassic \nPM Session 1:30-2:30 – Sparta\, Renaissance and Aztec
URL:https://www.leighacademymilestone.org.uk/event/sports-day-phase-3/
CATEGORIES:Phase 3
END:VEVENT
BEGIN:VEVENT
DTSTART;VALUE=DATE:20250617
DTEND;VALUE=DATE:20250618
DTSTAMP:20260420T080415
CREATED:20250312T085135Z
LAST-MODIFIED:20250312T085135Z
UID:6262-1750118400-1750204799@www.leighacademymilestone.org.uk
SUMMARY:Dietitian Clinic
DESCRIPTION:
URL:https://www.leighacademymilestone.org.uk/event/dietitian-clinic/
CATEGORIES:Phase 1,Phase 2,Phase 3,Phase 4
END:VEVENT
BEGIN:VEVENT
DTSTART;TZID=Europe/London:20250602T080000
DTEND;TZID=Europe/London:20250602T170000
DTSTAMP:20260420T080415
CREATED:20250305T142348Z
LAST-MODIFIED:20250305T142353Z
UID:6242-1748851200-1748883600@www.leighacademymilestone.org.uk
SUMMARY:Year 8 HPV and Year 9-11 Catch-Up Immunisations
DESCRIPTION:These will take place throughout the day at Leigh Academy Milestone main site.
URL:https://www.leighacademymilestone.org.uk/event/year-8-hpv-and-year-9-11-catch-up-immunisations/
CATEGORIES:Phase 3
END:VEVENT
BEGIN:VEVENT
DTSTART;VALUE=DATE:20250512
DTEND;VALUE=DATE:20250515
DTSTAMP:20260420T080415
CREATED:20240704T100814Z
LAST-MODIFIED:20250123T132806Z
UID:5758-1747008000-1747267199@www.leighacademymilestone.org.uk
SUMMARY:Phase 3 and M@L Residential
DESCRIPTION:
URL:https://www.leighacademymilestone.org.uk/event/phase-3-and-ml-residential/
CATEGORIES:Phase 3
END:VEVENT
END:VCALENDAR